BEGIN:VCALENDAR
VERSION:2.0
PRODID:-//Matt Bellace - ECPv6.15.20//NONSGML v1.0//EN
CALSCALE:GREGORIAN
METHOD:PUBLISH
X-WR-CALNAME:Matt Bellace
X-ORIGINAL-URL:https://www.mattbellace.com
X-WR-CALDESC:Events for Matt Bellace
REFRESH-INTERVAL;VALUE=DURATION:PT1H
X-Robots-Tag:noindex
X-PUBLISHED-TTL:PT1H
BEGIN:VTIMEZONE
TZID:UTC
BEGIN:STANDARD
TZOFFSETFROM:+0000
TZOFFSETTO:+0000
TZNAME:UTC
DTSTART:20250101T000000
END:STANDARD
END:VTIMEZONE
BEGIN:VEVENT
DTSTART;TZID=UTC:20260421T080000
DTEND;TZID=UTC:20260421T170000
DTSTAMP:20260421T103955
CREATED:20260304T180034Z
LAST-MODIFIED:20260305T230252Z
UID:3840-1776758400-1776790800@www.mattbellace.com
SUMMARY:PS 24\, PS 13\, Paterson\, NJ
DESCRIPTION:PS 24 \nPS 13 \nPaterson\, NJ \n 
URL:https://www.mattbellace.com/event/ps-13-paterson-nj/
END:VEVENT
END:VCALENDAR