BEGIN:VCALENDAR
VERSION:2.0
PRODID:-//Matt Bellace - ECPv6.15.20//NONSGML v1.0//EN
CALSCALE:GREGORIAN
METHOD:PUBLISH
X-WR-CALNAME:Matt Bellace
X-ORIGINAL-URL:https://www.mattbellace.com
X-WR-CALDESC:Events for Matt Bellace
REFRESH-INTERVAL;VALUE=DURATION:PT1H
X-Robots-Tag:noindex
X-PUBLISHED-TTL:PT1H
BEGIN:VTIMEZONE
TZID:UTC
BEGIN:STANDARD
TZOFFSETFROM:+0000
TZOFFSETTO:+0000
TZNAME:UTC
DTSTART:20210101T000000
END:STANDARD
END:VTIMEZONE
BEGIN:VEVENT
DTSTART;VALUE=DATE:20221007
DTEND;VALUE=DATE:20221008
DTSTAMP:20260421T100826
CREATED:20220910T212625Z
LAST-MODIFIED:20220913T035917Z
UID:2523-1665100800-1665187199@www.mattbellace.com
SUMMARY:Phillips Andover Academy\, Andover\, MA
DESCRIPTION:Phillips Andover Academy \nAndover\, MA
URL:https://www.mattbellace.com/event/phillips-andover-academy-andover-ma/
END:VEVENT
BEGIN:VEVENT
DTSTART;TZID=UTC:20221010T103000
DTEND;TZID=UTC:20221010T120000
DTSTAMP:20260421T100826
CREATED:20220924T042948Z
LAST-MODIFIED:20220924T043111Z
UID:2542-1665397800-1665403200@www.mattbellace.com
SUMMARY:Comedy Show: What's So Funny?  Oradell\, NJ
DESCRIPTION:What’s So Funny?  Comedy Show \nRiver Dell School District – Teacher Professional Development \nOradell\, NJ
URL:https://www.mattbellace.com/event/2542/
END:VEVENT
BEGIN:VEVENT
DTSTART;TZID=UTC:20221012T080000
DTEND;TZID=UTC:20221012T103000
DTSTAMP:20260421T100826
CREATED:20220910T205102Z
LAST-MODIFIED:20220910T205102Z
UID:2518-1665561600-1665570600@www.mattbellace.com
SUMMARY:Robbinsville HS\, Robbinsville\, NJ
DESCRIPTION:Robbinsville HS \n9th grade – 8am \n12th grade – 9:15am
URL:https://www.mattbellace.com/event/robbinsville-hs-robbinsville-nj/
END:VEVENT
BEGIN:VEVENT
DTSTART;VALUE=DATE:20221013
DTEND;VALUE=DATE:20221014
DTSTAMP:20260421T100826
CREATED:20220913T040132Z
LAST-MODIFIED:20220913T040132Z
UID:2526-1665619200-1665705599@www.mattbellace.com
SUMMARY:CAPE Youth Rally\, Beacon\, NY
DESCRIPTION:Council on Addiction Prevention and Education (CAPE) of Dutchess County \nYouth Rally \nBeacon\, NY
URL:https://www.mattbellace.com/event/cape-youth-rally-beacon-ny/
END:VEVENT
BEGIN:VEVENT
DTSTART;VALUE=DATE:20221017
DTEND;VALUE=DATE:20221018
DTSTAMP:20260421T100826
CREATED:20220913T040610Z
LAST-MODIFIED:20220913T040610Z
UID:2528-1665964800-1666051199@www.mattbellace.com
SUMMARY:Berkshire School\, Sheffield\, MA
DESCRIPTION:Berkshire School \nAll campus program \nSheffield\, MA
URL:https://www.mattbellace.com/event/berkshire-school-sheffield-ma/
END:VEVENT
BEGIN:VEVENT
DTSTART;TZID=UTC:20221018T080000
DTEND;TZID=UTC:20221018T170000
DTSTAMP:20260421T100826
CREATED:20221005T043613Z
LAST-MODIFIED:20221005T043613Z
UID:2564-1666080000-1666112400@www.mattbellace.com
SUMMARY:Westhill MS & HS\, Syracuse\, NY
DESCRIPTION:Westhill MS & HS \nSyracuse\, NY
URL:https://www.mattbellace.com/event/westhill-ms-hs-syracuse-ny/
END:VEVENT
BEGIN:VEVENT
DTSTART;VALUE=DATE:20221019
DTEND;VALUE=DATE:20221020
DTSTAMP:20260421T100826
CREATED:20220913T040714Z
LAST-MODIFIED:20220913T040714Z
UID:2530-1666137600-1666223999@www.mattbellace.com
SUMMARY:Bordentown High School\, Bordentown\, NJ
DESCRIPTION:Bordentown High School\, Bordentown\, NJ
URL:https://www.mattbellace.com/event/bordentown-high-school-bordentown-nj/
END:VEVENT
BEGIN:VEVENT
DTSTART;TZID=UTC:20221021T093000
DTEND;TZID=UTC:20221021T103000
DTSTAMP:20260421T100826
CREATED:20220913T040906Z
LAST-MODIFIED:20230130T195206Z
UID:2532-1666344600-1666348200@www.mattbellace.com
SUMMARY:William Paterson University\, LMTI Passaic County Teen Summit\, Wayne\, NJ
DESCRIPTION:William Paterson University\, LMTI Passaic County Teen Summit\, Wayne\, NJ
URL:https://www.mattbellace.com/event/william-paterson-university-lmti-passaic-county-teen-summit-wayne-nj/
END:VEVENT
BEGIN:VEVENT
DTSTART;TZID=UTC:20221025T183000
DTEND;TZID=UTC:20221026T143000
DTSTAMP:20260421T100826
CREATED:20221005T043728Z
LAST-MODIFIED:20221005T044049Z
UID:2566-1666722600-1666794600@www.mattbellace.com
SUMMARY:West Chester Communities That Care\, West Chester\, PA
DESCRIPTION:West Chester Communities That Care \n10/25\, 6:30pm \n10/26\, 8:15a\, 10a & 1:15p \nWest Chester\, PA
URL:https://www.mattbellace.com/event/west-chester-communities-that-care-west-chester-pa/
END:VEVENT
BEGIN:VEVENT
DTSTART;TZID=UTC:20221103T080000
DTEND;TZID=UTC:20221103T170000
DTSTAMP:20260421T100826
CREATED:20221005T043302Z
LAST-MODIFIED:20221005T043302Z
UID:2560-1667462400-1667494800@www.mattbellace.com
SUMMARY:EDU Wellness Conference\, Temecula\, CA
DESCRIPTION:EDU Wellness Conference \nPechanga Casino \nTemecula\, CA
URL:https://www.mattbellace.com/event/edu-wellness-conference-temecula-ca/
END:VEVENT
BEGIN:VEVENT
DTSTART;TZID=UTC:20221104T080000
DTEND;TZID=UTC:20221104T123000
DTSTAMP:20260421T100826
CREATED:20220929T174523Z
LAST-MODIFIED:20220929T174523Z
UID:2553-1667548800-1667565000@www.mattbellace.com
SUMMARY:Sycamore Magnet Academy\, Tustin\, CA
DESCRIPTION:Sycamore Magnet Academy \nTustin\, CA
URL:https://www.mattbellace.com/event/sycamore-magnet-academy-tustin-ca/
END:VEVENT
BEGIN:VEVENT
DTSTART;TZID=UTC:20221109T190000
DTEND;TZID=UTC:20221110T190000
DTSTAMP:20260421T100826
CREATED:20221005T043101Z
LAST-MODIFIED:20221005T043101Z
UID:2558-1668020400-1668106800@www.mattbellace.com
SUMMARY:International School of Zug and Luzern\, Switzerland
DESCRIPTION:International School of Zug and Luzern\, Switzerland \nUpper School\, Middle School and Parent program
URL:https://www.mattbellace.com/event/international-school-of-zug-and-luzern-switzerland/
END:VEVENT
BEGIN:VEVENT
DTSTART;TZID=UTC:20221110T080000
DTEND;TZID=UTC:20221110T170000
DTSTAMP:20260421T100826
CREATED:20221101T173745Z
LAST-MODIFIED:20221101T173745Z
UID:2581-1668067200-1668099600@www.mattbellace.com
SUMMARY:Institut Montana Zugerberg\, Switzerland
DESCRIPTION:Institut Montana Zugerberg \n9-10th grade in the AM \n11-12th grade in the PM \nParents\, 7:30PM
URL:https://www.mattbellace.com/event/institut-montana-zugerberg-switzerland/
END:VEVENT
BEGIN:VEVENT
DTSTART;TZID=UTC:20221116T080000
DTEND;TZID=UTC:20221116T170000
DTSTAMP:20260421T100826
CREATED:20221005T043347Z
LAST-MODIFIED:20221005T043930Z
UID:2562-1668585600-1668618000@www.mattbellace.com
SUMMARY:Weston HS & MS\, Weston\, CT
DESCRIPTION:Weston HS & MS \nWeston\, CT
URL:https://www.mattbellace.com/event/weston-hs-ms-weston-ct/
END:VEVENT
BEGIN:VEVENT
DTSTART;TZID=UTC:20221117T080000
DTEND;TZID=UTC:20221117T170000
DTSTAMP:20260421T100826
CREATED:20221101T173912Z
LAST-MODIFIED:20221101T173912Z
UID:2583-1668672000-1668704400@www.mattbellace.com
SUMMARY:The Chapin School\, NYC
DESCRIPTION:The Chapin School \nNew York City \nUppers School at 10:15am \nMiddle School at 11:15am
URL:https://www.mattbellace.com/event/the-chapin-school-nyc/
END:VEVENT
BEGIN:VEVENT
DTSTART;TZID=UTC:20221118T080000
DTEND;TZID=UTC:20221118T170000
DTSTAMP:20260421T100826
CREATED:20221101T174015Z
LAST-MODIFIED:20221101T174015Z
UID:2585-1668758400-1668790800@www.mattbellace.com
SUMMARY:Mountain View MS\, Mendham\, NJ
DESCRIPTION:Mountain View MS \nMendham\, NJ
URL:https://www.mattbellace.com/event/mountain-view-ms-mendham-nj/
END:VEVENT
BEGIN:VEVENT
DTSTART;TZID=UTC:20221122T190000
DTEND;TZID=UTC:20221122T210000
DTSTAMP:20260421T100826
CREATED:20221102T205304Z
LAST-MODIFIED:20221102T205304Z
UID:2588-1669143600-1669150800@www.mattbellace.com
SUMMARY:LMTI Fundraiser\, The Brownstone\, Paterson\, NJ
DESCRIPTION:Lindsey Meyer Teen Institute \nBeefsteak Fundraiser\, The Brownstown\, Paterson\, NJ
URL:https://www.mattbellace.com/event/lmti-fundraiser-the-brownstone-paterson-nj/
END:VEVENT
BEGIN:VEVENT
DTSTART;TZID=UTC:20221130T180000
DTEND;TZID=UTC:20221130T190000
DTSTAMP:20260421T100826
CREATED:20221125T144727Z
LAST-MODIFIED:20221125T144756Z
UID:2615-1669831200-1669834800@www.mattbellace.com
SUMMARY:Trinity Counseling Center - Speaker Series
DESCRIPTION:Trinity Counseling Center – Speaker Series \n353 Nassau St \nPrinceton\, New Jersey \ntrinitycounseling.org
URL:https://www.mattbellace.com/event/2615/
END:VEVENT
BEGIN:VEVENT
DTSTART;TZID=UTC:20221130T190000
DTEND;TZID=UTC:20221130T200000
DTSTAMP:20260421T100826
CREATED:20221102T205722Z
LAST-MODIFIED:20221102T205810Z
UID:2590-1669834800-1669838400@www.mattbellace.com
SUMMARY:Trinity Counseling Center Speaker Series\, Princeton\, NJ
DESCRIPTION:Trinity Counseling Center Speaker Series \nPrinceton\, NJ \nTrinity Counseling Service – Healing minds. Strengthening hearts. Enhancing lives… One at a time.
URL:https://www.mattbellace.com/event/trinity-counseling-center-speaker-series-princeton-nj/
END:VEVENT
BEGIN:VEVENT
DTSTART;TZID=UTC:20221211T170000
DTEND;TZID=UTC:20221211T183000
DTSTAMP:20260421T100826
CREATED:20221125T144929Z
LAST-MODIFIED:20221125T144929Z
UID:2618-1670778000-1670783400@www.mattbellace.com
SUMMARY:Congregation Beth Or\, Ambler\, PA
DESCRIPTION:Congregation Beth Or \nAmbler\, PA
URL:https://www.mattbellace.com/event/congregation-beth-or-ambler-pa/
END:VEVENT
BEGIN:VEVENT
DTSTART;VALUE=DATE:20230110
DTEND;VALUE=DATE:20230111
DTSTAMP:20260421T100826
CREATED:20221125T145050Z
LAST-MODIFIED:20221125T145050Z
UID:2620-1673308800-1673395199@www.mattbellace.com
SUMMARY:Oratory Prep School\, Summit\, NJ
DESCRIPTION:Oratory Prep School\, Summit\, NJ
URL:https://www.mattbellace.com/event/oratory-prep-school-summit-nj/
END:VEVENT
BEGIN:VEVENT
DTSTART;TZID=UTC:20230117T190000
DTEND;TZID=UTC:20230118T150000
DTSTAMP:20260421T100826
CREATED:20221108T005429Z
LAST-MODIFIED:20221108T005429Z
UID:2596-1673982000-1674054000@www.mattbellace.com
SUMMARY:Dobbs Ferry High School\, NY
DESCRIPTION:Dobbs Ferry HS \nFeb 17th: Evening Parent Program \nFeb 18th: Dobbs Ferry HS
URL:https://www.mattbellace.com/event/dobbs-ferry-high-school-ny/
END:VEVENT
BEGIN:VEVENT
DTSTART;TZID=UTC:20230119T100000
DTEND;TZID=UTC:20230119T113000
DTSTAMP:20260421T100826
CREATED:20221125T145308Z
LAST-MODIFIED:20221125T145308Z
UID:2622-1674122400-1674127800@www.mattbellace.com
SUMMARY:Rider University - Mercer County Counselors Association
DESCRIPTION:Rider University – Mercer County Counselors Association \nMental Health Comedy Show with comedian Joe Matarese \nLawrence\, NJ
URL:https://www.mattbellace.com/event/rider-university-mercer-county-counselors-association/
END:VEVENT
BEGIN:VEVENT
DTSTART;TZID=UTC:20230120T080000
DTEND;TZID=UTC:20230120T170000
DTSTAMP:20260421T100826
CREATED:20221215T192747Z
LAST-MODIFIED:20221215T192747Z
UID:2631-1674201600-1674234000@www.mattbellace.com
SUMMARY:Miller Creek Middle School\, San Rafael\, CA
DESCRIPTION:Miller Creek Middle School\, San Rafael\, CA \n3 assemblies
URL:https://www.mattbellace.com/event/miller-creek-middle-school-san-rafael-ca/
END:VEVENT
BEGIN:VEVENT
DTSTART;TZID=UTC:20230123T170000
DTEND;TZID=UTC:20230123T180000
DTSTAMP:20260421T100826
CREATED:20221215T192834Z
LAST-MODIFIED:20230103T172252Z
UID:2633-1674493200-1674496800@www.mattbellace.com
SUMMARY:Parent Program\, San Rafael\, CA
DESCRIPTION:Parent Program \nLocation: Miller Creek Middle School\, San Rafael\, CA \nTime: 5-6pm PST
URL:https://www.mattbellace.com/event/parent-program-miller-creek-middle-school-san-rafael-ca/
END:VEVENT
BEGIN:VEVENT
DTSTART;TZID=UTC:20230201T083000
DTEND;TZID=UTC:20230201T150000
DTSTAMP:20260421T100826
CREATED:20221108T004709Z
LAST-MODIFIED:20221108T005139Z
UID:2592-1675240200-1675263600@www.mattbellace.com
SUMMARY:Collegiate School\, Richmond\, VA
DESCRIPTION:Collegiate School \nRichmond\, VA \nSophomore Retreat\, 8:30-3pm \nEvening Program: 7:30pm \n 
URL:https://www.mattbellace.com/event/dobbs-ferry-ny/
END:VEVENT
BEGIN:VEVENT
DTSTART;TZID=UTC:20230202T080000
DTEND;TZID=UTC:20230203T170000
DTSTAMP:20260421T100826
CREATED:20221108T010108Z
LAST-MODIFIED:20221108T010108Z
UID:2600-1675324800-1675443600@www.mattbellace.com
SUMMARY:New Jersey Elks Conference\, Long Branch\, NJ
DESCRIPTION:New Jersey Elks Conference \nLong Branch\, NJ
URL:https://www.mattbellace.com/event/new-jersey-elks-conference-long-branch-nj/
END:VEVENT
BEGIN:VEVENT
DTSTART;TZID=UTC:20230203T193000
DTEND;TZID=UTC:20230203T210000
DTSTAMP:20260421T100826
CREATED:20221108T005715Z
LAST-MODIFIED:20221108T005715Z
UID:2598-1675452600-1675458000@www.mattbellace.com
SUMMARY:Mental Health Comedy Show\, Ramsey\, NJ
DESCRIPTION:Mental Health Comedy Show \nKnights of Columbus\, 48 Mechanic St\, Ramsey\, NJ 07446 \n7:30-9pm \nRamsey\, NJ
URL:https://www.mattbellace.com/event/mental-health-comedy-show-ramsey-nj/
END:VEVENT
BEGIN:VEVENT
DTSTART;TZID=UTC:20230207T133000
DTEND;TZID=UTC:20230207T150000
DTSTAMP:20260421T100826
CREATED:20221215T193305Z
LAST-MODIFIED:20221215T193305Z
UID:2636-1675776600-1675782000@www.mattbellace.com
SUMMARY:Madison Jr. HS\, Madison\, NJ
DESCRIPTION:Madison Jr. HS\, Madison\, NJ \n1:45-2:45pm
URL:https://www.mattbellace.com/event/madison-jr-hs-madison-nj/
END:VEVENT
BEGIN:VEVENT
DTSTART;TZID=UTC:20230222T080000
DTEND;TZID=UTC:20230222T170000
DTSTAMP:20260421T100826
CREATED:20221108T010329Z
LAST-MODIFIED:20221108T010329Z
UID:2602-1677052800-1677085200@www.mattbellace.com
SUMMARY:Clinton Township Middle School\, Clinton\, NJ
DESCRIPTION:Clinton Township Middle School \n34 Grayrock Rd\, Clinton\, NJ 08809
URL:https://www.mattbellace.com/event/clinton-township-middle-school-clinton-nj/
END:VEVENT
END:VCALENDAR